{"text_format":"1","workbook":"xlsx","n_sheets":6,"sheets":["Temperatur","Niederschlag_Schnee","Sonne","Luftwerte","Monitor","Werte"],"not_rendered":{"charts":5,"images":0,"macros":1,"external_links":0,"defined_names":6,"comments":0,"pivot_tables":0},"unopened":[],"bounds":{"document_bytes":16777216,"sheet_cells":100000,"rows_first":2000,"rows_last":500,"rows_between":2000,"halvings":0,"cell_chars":16384,"cell_head_chars":4096},"cells_cut":0,"cells_raw":0,"read":"whole","date_system":"1900"}

{"sheet":"Temperatur","index":0,"n_rows":36,"n_cols":17,"rows_kept":36,"cut":false,"hidden":false,"merged":[]}
[]
[null,null,null,null,null,null,null,"Temperatur",{"$f":"Werte!B39","v":"September"},null,{"$f":"Werte!C39","v":2021}]
[null,null,null,null,null,null,null,null,null,null,null,null,null,null,null,"Min/Max Temperatur"]
[]
[]
[]
[]
[]
[]
[]
[]
[]
[]
[]
[]
[]
[]
[]
[]
[]
[]
[]
[]
[]
[]
[]
[]
[]
[]
[]
[]
[null,null,"Durchschnitt","Min:",{"$f":"Werte!E34","v":12.319999996821085},"°C",null,"Temperatur","Min:",{"$f":"Werte!E33","v":7.9000000953674316},"°C    am",{"$f":"Werte!E36","v":"2021-09-30"},null,null,"Anzahl Frosttage:",null,{"$f":"Werte!F35","v":0}]
[]
[null,null,"Durchschnitt","Max:",{"$f":"Werte!F34","v":21.706666469573975},"°C",null,"Temperatur","Max:",{"$f":"Werte!F33","v":28.799999237060547},"°C    am",{"$f":"Werte!F36","v":"2021-09-08"}]
[]
[null,null,"Durchschnitt","Monat:",{"$f":"Werte!D33","v":16.957777796851264},"°C",null,"Bodentemperatur","Min:",{"$f":"Werte!Q33","v":7.2},"°C    am",{"$f":"Werte!Q36","v":"2021-09-30"}]

{"sheet":"Niederschlag_Schnee","index":1,"n_rows":33,"n_cols":19,"rows_kept":33,"cut":false,"hidden":false,"merged":[]}
[]
[null,null,null,null,null,null,null,null,null,"Niederschlag",null,null,{"$f":"Werte!B39","v":"September"},{"$f":"Werte!C39","v":2021}]
[]
[]
[]
[]
[]
[]
[]
[]
[]
[]
[]
[]
[]
[]
[]
[]
[]
[]
[]
[]
[]
[]
[]
[]
[]
[]
[]
[]
[null,null,"Niederschlag  :",null,{"$f":"Werte!G34","v":33.800000429153442},"mm",null,"Niederschlag   Max :",null,{"$f":"Werte!G33","v":21.800000205636024},"mm","am",{"$f":"Werte!G36","v":"2021-09-15"},null,"Regentage",":",null,{"$f":"Werte!Z38","v":11}]
[]
[null,null,"Schneefall  :",null,{"$f":"Werte!H34","v":"0"},"cm",null,"Schneemenge  Max :",null,{"$f":"Werte!H33","v":"0"},"cm","am",{"$f":"Werte!H36","v":{"$error":"#N/A"}},null,"Neuschnee /","Schneetage  :",null,{"$f":"Werte!H38","v":0},{"$f":"Werte!I37","v":0}]

{"sheet":"Sonne","index":2,"n_rows":33,"n_cols":12,"rows_kept":33,"cut":false,"hidden":false,"merged":[]}
[]
[null,null,null,null,null,"Sonne",{"$f":"Werte!B39","v":"September"},{"$f":"Werte!C39","v":2021}]
[]
[]
[]
[]
[]
[]
[]
[]
[]
[]
[]
[]
[]
[]
[]
[]
[]
[]
[]
[]
[]
[]
[]
[]
[]
[]
[null,null,"Sonnenscheindauer Std.:",null,"gesamt",{"$f":"Werte!V34","v":138.50000000000003},"Std.","Max:",{"$f":"Werte!V33","v":7.6666666666666714},"Std.","am",{"$f":"Werte!V36","v":"2021-09-03"}]
[]
[null,null,"Sonnenenergie in Kw/h:",null,"gesamt",{"$f":"Werte!J34","v":76.316711029433364},"KW/h","Max:",{"$f":"Werte!J33","v":4.6105717301243034},"KW/h","am",{"$f":"Werte!J36","v":"2021-09-03"}]
[]
[null,null,"Sonnentage:",null,null,{"$f":"Werte!K35","v":30}]

{"sheet":"Luftwerte","index":3,"n_rows":20,"n_cols":12,"rows_kept":20,"cut":false,"hidden":false,"merged":[]}
[]
[null,null,null,null,null,"Luftwerte",{"$f":"Werte!B39","v":"September"},{"$f":"Werte!C39","v":2021}]
[]
[]
[]
[]
[]
[]
[]
[]
[]
[]
[]
[]
[]
[]
[]
[null,null,"Luftdruck:","Min:",{"$f":"Werte!L33","v":1006.7000122070313},"mbar   am",{"$f":"Werte!L36","v":"2021-09-09"},"Max:",{"$f":"Werte!L34","v":1026.300048828125},"mbar","am",{"$f":"Werte!L37","v":"2021-09-21"}]
[]
[null,null,"Luftfeuchte:","Min.:",{"$f":"Werte!R33","v":54}," %     am",{"$f":"Werte!R36","v":"2021-09-09"},"Max:",{"$f":"Werte!R35","v":95},"%","am",{"$f":"Werte!R37","v":"2021-09-15"}]

{"sheet":"Monitor","index":4,"n_rows":65,"n_cols":6,"rows_kept":65,"cut":false,"hidden":false,"merged":[[33,3,33,4],[34,3,34,4],[57,3,57,4],[1,1,1,2],[1,3,1,4],[15,1,15,2],[2,1,2,2]]}
[]
[null,{"$f":"Werte!B39","v":"September"},null,{"$f":"Werte!C39","v":2021}]
[null,"Temperatur"]
[null,"Monat",{"$f":"Werte!D33","v":16.957777796851264},"°C","Ø",{"$f":"Werte!B39","v":"September"}]
[null,"Statistik",8.1,"°C",null,"Ø 1988-2019"]
[null,"Max ",{"$f":"Werte!F34","v":21.706666469573975},"°C","Ø",{"$f":"Werte!B39","v":"September"}]
[null,"Statistik",13.5,"°C",{"$f":"B2","v":"September"},1991]
[null,"Min",{"$f":"Werte!E34","v":12.319999996821085},"°C","Ø",{"$f":"Werte!B39","v":"September"}]
[null,"Statistik",1.5,"°C",{"$f":"B2","v":"September"},{"$error":"#N/A"}]
[null,"Max",{"$f":"Werte!F33","v":28.799999237060547},"°C","am",{"$f":"Werte!F36","v":"2021-09-08"}]
[null,"Statistik",19.600000000000001,"°C",null,"Ø 1988-2019"]
[null,"Min",{"$f":"Werte!E33","v":7.9000000953674316},"°C","am",{"$f":"Werte!E36","v":"2021-09-30"}]
[null,"Statistik",-3.1,"°C",null,"Ø 1988-2019"]
[null,"Frost",{"$f":"Werte!AB38","v":0},"Tage",null,"März"]
[null,"Statistik",7,"Tage",null,"Ø 1988-2019"]
[null,"Bodentemperatur"]
[null,"Monat",{"$f":"Werte!Q34","v":11.579999999999997},"°C","Ø",{"$f":"Werte!B39","v":"September"}]
[null,"Statistik",-4.0999999999999996,"°C",null,"Ø 1995-2019"]
[null,"Min",{"$f":"Werte!Q33","v":7.2},"°C","am",{"$f":"Werte!Q36","v":"2021-09-30"}]
[]
[null,"Niederschlag"]
[null,"Gesamt",{"$f":"Werte!G34","v":33.800000429153442},"mm",null,{"$f":"Werte!B39","v":"September"}]
[null,"Statistik",60.5,"mm",null,"Ø 1988-2019"]
[null,"Max",{"$f":"Werte!G33","v":21.800000205636024},"mm","am",{"$f":"Werte!G36","v":"2021-09-15"}]
[null,"Statistik",12.3,"mm",{"$f":"B2","v":"September"},1993]
[null,"MIN"]
[null,"Statistik"]
[null,"Regen",{"$f":"Werte!Z38","v":11},"Tage",null,"Tage"]
[null,"Statistik",17,"Tage",null,"Ø 1988-2019"]
[null,"Schnee",{"$f":"Werte!H34","v":"0"},"cm",null,{"$f":"Werte!B39","v":"September"}]
[null,"Statistik",6.4,"cm",null,"Ø 1988-2019"]
[null,"Max",{"$f":"Werte!H33","v":"0"},"cm","am",{"$f":"Werte!H36","v":{"$error":"#N/A"}}]
[null,"Statistik",19.7,"cm",{"$f":"B2","v":"September"},2013]
[null,"Schnee an",{"$f":"Werte!H38","v":0},"Tage",null,{"$f":"B2","v":"September"}]
[null,"Statistik",1,"Tage",null,"Ø 1988-2019"]
[]
[null,"Luftfeuchte"]
[null,"Monat ",{"$f":"Werte!R33","v":54},"%","Ø",{"$f":"Werte!B39","v":"September"}]
[]
[null,"Max",{"$f":"Werte!R35","v":95},"%","am",{"$f":"Werte!R37","v":"2021-09-15"}]
[]
[null,"Min",{"$f":"Werte!R33","v":54},"%","am",{"$f":"Werte!R36","v":"2021-09-09"}]
[]
[null,"Luftdruck"]
[null,"Monat",{"$f":"Werte!L34","v":1026.300048828125},"mbar",null,{"$f":"Werte!B39","v":"September"}]
[null,"Max",{"$f":"Werte!L34","v":1026.300048828125},"mbar",null,{"$f":"Werte!L37","v":"2021-09-21"}]
[null,"Min",{"$f":"Werte!L33","v":1006.7000122070313},"mbar",null,{"$f":"Werte!L36","v":"2021-09-09"}]
[]
[null,"Sonne"]
[null,"Gesamt",{"$f":"Werte!V34","v":138.50000000000003},"Std.",null,{"$f":"Werte!B39","v":"September"}]
[null,"Statistik",103.22,"Std.",null,"Ø 1988-2019"]
[null,"Max",{"$f":"Werte!V33","v":7.6666666666666714},"Std.","am",{"$f":"Werte!V36","v":"2021-09-03"}]
[null,"Statistik",null,null,null,"Ø 1988-2019"]
[null,"Gesamt",{"$f":"Werte!J34","v":76.316711029433364},"KW",null,{"$f":"Werte!B39","v":"September"}]
[null,"Statistik",66.09,"KW",null,"Ø 1988-2019"]
[null,"Max",{"$f":"Werte!J33","v":4.6105717301243034},"KW","am",{"$f":"Werte!J36","v":"2021-09-03"}]
[]
[null,"Sonne an",{"$f":"Werte!AC38","v":30},"Tagen",null,"Tagen"]
[null,"Statistik",25,null,null,"Ø 1988-2019"]
[]
[null,"Wind"]
[null,"Monat",{"$f":"Werte!S39","v":13.438888984256321},"Kmh","Ø",{"$f":"Werte!B39","v":"September"}]
[null,"Max",{"$f":"Werte!S35","v":38.599998474121094},"Kmh"]
[null,"Min",{"$f":"Werte!S33","v":0},"Kmh"]
[null,null,null,"Kmh"]

{"sheet":"Werte","index":5,"n_rows":39,"n_cols":29,"rows_kept":39,"cut":false,"hidden":false,"merged":[]}
["Datum","°C 6:50Uhr","°C 12:50Uhr","°C 18:50Uhr","°C Min","°C Max","Regen mm","Schnee cm","Schnee Höhe cm","Sonne KW/m2","Sonne Std_Min","hPa","Regen Vorm.","Regen Nachm.","Bemerk. vorm.","Bemerk. nachm.","Boden- temperatur","Lftfeuchte %","Wind-Morgen Max/ Kmh","Wind-Mittag Max/ Kmh","Wind-Abend Max/Kmh","Sonne",null,"Tages-ø °C","Min/Max Tages-ø°C","Regen-    tage","Schnee Tage","Frost- tage","Sonnen-tage"]
["2021-09-01",14.300000190734863,16.200000762939453,17.899999618530273,13.399999618530273,19.799999237060547,0,0,0,1.6031751380962693,6.9444444444444448E-2,1024.5999755859375,1,1,null,null,12,79,6.4000000953674316,6.4000000953674316,11.300000190734863,{"$f":"IF(K2>0,(W2*24),\"\")","v":1.6666666666666667},{"$f":"SUM(K2)","v":6.9444444444444448E-2},{"$f":"IF(B2<>0,((B2+C2+D2+D2)/4),\"\")","v":16.575000047683716},{"$f":"IF(R2>0,AVERAGE(E2:F2),\"\")","v":16.59999942779541},{"$f":"IF(M2+N2>2,1,\"\")","v":""},{"$f":"IF(I2>0,1,\"\")","v":""},{"$f":"IF(E2<0,1,\"\")","v":""},{"$f":"IF(K2>0,1,\"\")","v":1}]
["2021-09-02",10.600000381469727,19.200000762939453,20.799999237060547,10.100000381469727,24.100000381469727,0,0,0,3.4482201632765719,0.26388888888888901,1022.5,1,1,null,null,9.6,74,6.4000000953674316,6.4000000953674316,9.6999998092651367,{"$f":"IF(K3>0,(W3*24),\"\")","v":6.3333333333333357},0.26388888888888901,{"$f":"IF(B3<>0,((B3+C3+D3+D3)/4),\"\")","v":17.849999904632568},{"$f":"IF(R3>0,AVERAGE(E3:F3),\"\")","v":17.100000381469727},"","","",1]
["2021-09-03",11.699999809265137,22.299999237060547,21.399999618530273,11.399999618530273,25.600000381469727,0,0,0,4.6105717301243034,0.31944444444444464,1016.4000244140625,1,1,null,null,10.9,68,3.2000000476837158,6.4000000953674316,9.6999998092651367,7.6666666666666714,0.31944444444444464,19.199999570846558,18.5,"","","",1]
["2021-09-04",13,19,20.100000381469727,12.300000190734863,23.799999237060547,0,0,0,4.2577961866582452,0.2916666666666668,1015.5,1,1,null,null,10.9,70,6.4000000953674316,8,9.6999998092651367,7.0000000000000036,0.2916666666666668,18.050000190734863,18.049999713897705,"","","",1]
["2021-09-05",9.6999998092651367,21.5,21.100000381469727,9.6999998092651367,24.899999618530273,0,0,0,4.5249725980797244,0.31944444444444464,1018.9000244140625,1,1,null,null,8.9,65,3.2000000476837158,11.300000190734863,9.6999998092651367,7.6666666666666714,0.31944444444444464,18.350000143051147,17.299999713897705,"","","",1]
["2021-09-06",11,21.299999237060547,21.799999237060547,10.699999809265137,25.299999237060547,0,0,0,3.6203512633112909,0.26388888888888901,1021,1,1,null,null,10.1,65,4.8000001907348633,6.4000000953674316,6.4000000953674316,6.3333333333333357,0.26388888888888901,18.97499942779541,17.999999523162842,"","","",1]
["2021-09-07",15.800000190734863,22.700000762939453,23.299999237060547,14.600000381469727,27.100000381469727,0,0,0,3.5786013292466921,0.30555555555555575,1019.5999755859375,1,1,null,null,12.9,55,0,8,8,7.3333333333333375,0.30555555555555575,21.274999856948853,20.850000381469727,"","","",1]
["2021-09-08",13.899999618530273,25.600000381469727,25.100000381469727,13.399999618530273,28.799999237060547,0,0,0,4.335581714731906,0.31944444444444464,1011.5,1,1,null,null,12.5,57,4.8000001907348633,14.5,11.300000190734863,7.6666666666666714,0.31944444444444464,22.425000190734863,21.09999942779541,"","","",1]
["2021-09-09",17.299999237060547,25.799999237060547,25.899999618530273,15.600000381469727,28.399999618530273,0,0,0,3.9586658886306187,0.28472222222222238,1006.7000122070313,1,1,null,null,13.9,54,6.4000000953674316,11.300000190734863,20.899999618530273,6.8333333333333375,0.28472222222222238,23.72499942779541,22,"","","",1]
["2021-09-10",19.399999618530273,24.399999618530273,19.700000762939453,17.399999618530273,25.700000762939453,2.0000000298023224,0,0,2.6861084483795099,0.19444444444444442,1010,1,4,null,null,17,73,14.5,16.100000381469727,24.100000381469727,4.6666666666666661,0.19444444444444442,20.800000190734863,21.550000190734863,1,"","",1]
["2021-09-11",17.100000381469727,18.600000381469727,20.100000381469727,16.299999237060547,21.399999618530273,0,0,0,1.4626480420192927,8.3333333333333329E-2,1012.9000244140625,2,1,null,null,15.5,85,9.6999998092651367,20.899999618530273,24.100000381469727,2,8.3333333333333329E-2,18.975000381469727,18.84999942779541,1,"","",1]
["2021-09-12",16.899999618530273,19.200000762939453,19.399999618530273,14.600000381469727,21.200000762939453,0,0,0,3.3782481707489991,0.31250000000000017,1013.7000122070313,1,1,null,null,13.6,70,16.100000381469727,22.5,22.5,7.5000000000000036,0.31250000000000017,18.724999904632568,17.90000057220459,"","","",1]
["2021-09-13",13.300000190734863,15.899999618530273,17.700000762939453,12.800000190734863,21.600000381469727,0.40000000596046448,0,0,1.672680665926676,0.11111111111111109,1015.2000122070313,1,2,null,null,12,93,9.6999998092651367,6.4000000953674316,8,2.6666666666666661,0.11111111111111109,16.150000333786011,17.200000286102295,1,"","",1]
["2021-09-14",11.100000381469727,21.700000762939453,22.299999237060547,10.899999618530273,26.299999237060547,0.20000000298023224,0,0,3.487287849456929,0.27083333333333343,1010.5,1,1,null,null,10.1,68,3.2000000476837158,8,14.5,6.5000000000000018,0.27083333333333343,19.349999904632568,18.59999942779541,"","","",1]
["2021-09-15",18.899999618530273,18.5,19.600000381469727,16.200000762939453,21.299999237060547,21.800000205636024,0,0,0.85843982086193538,4.1666666666666664E-2,1007.2000122070313,3,4,null,null,15.5,95,8,4.8000001907348633,11.300000190734863,1,4.1666666666666664E-2,19.150000095367432,18.75,1,"","",1]
["2021-09-16",12.699999809265137,16.5,18,12.699999809265137,19.600000381469727,0.40000000596046448,0,0,1.5623581298201228,9.0277777777777776E-2,1012.9000244140625,3,1,null,null,12,88,16.100000381469727,16.100000381469727,19.299999237060547,2.1666666666666665,9.0277777777777776E-2,16.299999952316284,16.150000095367432,1,"","",1]
["2021-09-17",12.800000190734863,16.399999618530273,18.200000762939453,12.699999809265137,19.799999237060547,0,0,0,1.4521522357589642,6.9444444444444448E-2,1012.0999755859375,1,1,null,null,11.7,88,8,9.6999998092651367,11.300000190734863,1.6666666666666667,6.9444444444444448E-2,16.400000333786011,16.249999523162842,"","","",1]
["2021-09-18",11.300000190734863,19.399999618530273,17.600000381469727,10.800000190734863,22.399999618530273,0.20000000298023224,0,0,2.7343891492614638,0.20833333333333334,1014.0999755859375,2,1,null,null,10.1,69,0,8,8,5,0.20833333333333334,16.475000143051147,16.599999904632568,1,"","",1]
["2021-09-19",14,17.600000381469727,14.800000190734863,11.899999618530273,18.200000762939453,0,0,0,1.8260359631071392,0.14583333333333329,1014.2000122070313,1,1,null,null,12.9,72,8,8,14.5,3.4999999999999991,0.14583333333333329,15.300000190734863,15.050000190734863,"","","",1]
["2021-09-20",9.8999996185302734,14.600000381469727,13.399999618530273,9.6000003814697266,15.699999809265137,0,0,0,1.4590328257277012,0.10416666666666664,1021,1,1,null,null,13.4,60,9.6999998092651367,11.300000190734863,11.300000190734863,2.4999999999999996,0.10416666666666664,12.824999809265137,12.650000095367432,"","","",1]
["2021-09-21",8.8000001907348633,15.600000381469727,16.100000381469727,8.3000001907348633,18.100000381469727,0,0,0,2.2211445268094661,0.23611111111111116,1026.300048828125,1,1,null,null,7.7,62,3.2000000476837158,11.300000190734863,19.299999237060547,5.6666666666666679,0.23611111111111116,14.150000333786011,13.200000286102295,"","","",1]
["2021-09-22",10.699999809265137,17,18.100000381469727,10.600000381469727,21.299999237060547,0,0,0,2.8122913108437069,0.28472222222222238,1022.0999755859375,1,1,null,null,7.7,78,4.8000001907348633,17.700000762939453,17.700000762939453,6.8333333333333375,0.28472222222222238,15.975000143051147,15.949999809265137,"","","",1]
["2021-09-23",10.300000190734863,16.600000381469727,16.899999618530273,10.300000190734863,17.299999237060547,1.4000000208616257,0,0,1.0464312596142145,4.8611111111111105E-2,1011.2999877929688,1,3,null,null,9.1999999999999993,80,9.6999998092651367,29,32.200000762939453,1.1666666666666665,4.8611111111111105E-2,15.174999952316284,13.799999713897705,1,"","",1]
["2021-09-24",13.600000381469727,15.899999618530273,17.899999618530273,13.300000190734863,18.899999618530273,0,0,0,0.84024709848813706,2.7777777777777776E-2,1011.2000122070313,1,1,null,null,12.4,93,25.700000762939453,22.5,25.700000762939453,0.66666666666666663,2.7777777777777776E-2,16.324999809265137,16.099999904632568,"","","",1]
["2021-09-25",15.399999618530273,20,19.100000381469727,15.199999809265137,22.299999237060547,0,0,0,2.925879167885983,0.27083333333333343,1012.7999877929688,1,1,null,null,14.4,80,14.5,17.700000762939453,16.100000381469727,6.5000000000000018,0.27083333333333343,18.400000095367432,18.749999523162842,"","","",1]
["2021-09-26",15.5,21.799999237060547,21.200000762939453,14.899999618530273,23.799999237060547,0,0,0,2.6354953756364519,0.22916666666666671,1011.7000122070313,1,1,null,null,13.3,75,4.8000001907348633,17.700000762939453,22.5,5.5000000000000009,0.22916666666666671,19.925000190734863,19.34999942779541,"","","",1]
["2021-09-27",15.699999809265137,20.200000762939453,18,12.600000381469727,21.399999618530273,3.000000074505806,0,0,1.438391080367539,9.722222222222221E-2,1011.2999877929688,1,3,null,null,12,77,11.300000190734863,20.899999618530273,32.200000762939453,2.333333333333333,9.722222222222221E-2,17.975000143051147,17,1,"","",1]
["2021-09-28",10.699999809265137,16,15.800000190734863,10.399999618530273,17.899999618530273,0.20000000298023224,0,0,2.6148536340342239,0.28472222222222238,1018.2000122070313,2,1,null,null,9.6,82,24.100000381469727,16.100000381469727,17.700000762939453,6.8333333333333375,0.28472222222222238,14.575000047683716,14.149999618530273,1,"","",1]
["2021-09-29",11.899999618530273,13.100000381469727,9.8000001907348633,9,14.100000381469727,4.2000000774860382,0,0,0.69272279741940646,6.9444444444444441E-3,1014.2000122070313,1,3,null,null,8.4,91,11.300000190734863,24.100000381469727,38.599998474121094,0.16666666666666666,{"$f":"SUM(K30)","v":6.9444444444444441E-3},{"$f":"IF(B30<>0,((B30+C30+D30+D30)/4),\"\")","v":11.150000095367432},{"$f":"IF(R30>0,AVERAGE(E30:F30),\"\")","v":11.550000190734863},{"$f":"IF(M30+N30>2,1,\"\")","v":1},{"$f":"IF(I30>0,1,\"\")","v":""},{"$f":"IF(E30<0,1,\"\")","v":""},{"$f":"IF(K30>0,1,\"\")","v":1}]
["2021-09-30",8.6999998092651367,13.600000381469727,12.899999618530273,7.9000000953674316,15.100000381469727,0,0,0,2.5719374651098876,0.21527777777777779,1019.7999877929688,2,1,null,null,7.2,73,20.899999618530273,25.700000762939453,33.799999237060547,5.166666666666667,{"$f":"SUM(K31)","v":0.21527777777777779},12.024999856948853,11.500000238418579,1,"","",1]
[null,null,null,null,null,null,null,null,null,null,null,null,null,null,null,null,null,null,null,null,null,{"$f":"IF(K32>0,(W32*24),\"\")","v":""},{"$f":"SUM(K32)","v":0},{"$f":"IF(B32<>0,((B32+C32+D32+D32)/4),\"\")","v":""},{"$f":"IF(R32>0,AVERAGE(E32:F32),\"\")","v":""},{"$f":"IF(M32+N32>2,1,\"\")","v":""},{"$f":"IF(I32>0,1,\"\")","v":""},{"$f":"IF(E32<0,1,\"\")","v":""},{"$f":"IF(K32>0,1,\"\")","v":""}]
["Min/Max",null,null,{"$f":"IF(B2<>0,AVERAGE(B2:D32),\"\")","v":16.957777796851264},{"$f":"IF(E2<>0,MIN(E2:E32),\"\")","v":7.9000000953674316},{"$f":"IF(F2<>0,MAX(F2:F32),\"\")","v":28.799999237060547},{"$f":"IF(G34>0,MAX(G2:G32),\"\")","v":21.800000205636024},{"$f":"IF(H39<>0,MAX(H2:H32),\"0\")","v":"0"},{"$f":"IF(I37>0,MAX(I2:I32),\"0\")","v":"0"},{"$f":"IF(J2<>0,MAX(J2:J32),\"\")","v":4.6105717301243034},{"$f":"IF(K2<>0,MAX(K2:K32),\"\")","v":0.31944444444444464},{"$f":"IF(L2>0,MIN(L2:L32),\"\")","v":1006.7000122070313},null,null,null,null,{"$f":"IF(Q3<>0,MIN(Q2:Q32),\"\")","v":7.2},{"$f":"IF(R2>0,MIN(R2:R32),\"\")","v":54},{"$f":"IF(S2>0,MIN(S2:U32),\"\")","v":0},{"$f":"IF(T2>0,MIN(T2:T32),\"\")","v":4.8000001907348633},{"$f":"IF(U2>0,MIN(U2:U32),\"\")","v":6.4000000953674316},{"$f":"IF(V39<>0,MAX(V2:V31),\"\")","v":7.6666666666666714}]
["Summe/Mittel",null,null,null,{"$f":"IF(E2<>0,AVERAGE(E2:E32),\"\")","v":12.319999996821085},{"$f":"IF(F2<>0,AVERAGE(F2:F32),\"\")","v":21.706666469573975},{"$f":"SUM(G2:G32)","v":33.800000429153442},{"$f":"IF(H39>0,SUM(H2:H32),\"0\")","v":"0"},{"$f":"IF(I2>0,SUM(I2:I32),\"0\")","v":"0"},{"$f":"IF(J2>0,SUM(J2:J32),\"\")","v":76.316711029433364},{"$f":"IF(K2>0,SUM(K2:K32),\"\")","v":5.7708333333333348},{"$f":"IF(L2>0,MAX(L2:L32),\"\")","v":1026.300048828125},null,null,null,null,{"$f":"IF(Q3<>0,AVERAGE(Q2:Q32),\"\")","v":11.579999999999997},{"$f":"IF(R2<>0,AVERAGE(R2:R32),\"\")","v":74.63333333333334},{"$f":"IF(S2<>0,AVERAGE(S2:U32),\"\")","v":13.438888984256321},null,null,{"$f":"IF(V39>0,SUM(V2:V32),\"\")","v":138.50000000000003},{"$f":"IF(W2>0,SUM(W2:W32),\"\")","v":5.7708333333333348},{"$f":"IF(L2>0,AVERAGE(X2:X32),\"\")","v":17.418333355585734},{"$f":"IF(L2>0,AVERAGE(Y2:Y32),\"\")","v":17.013333233197532}]
["Frosttage/ Sonnentage",null,null,null,null,{"$f":"COUNT(AB2:AB32)","v":0},null,null,null,null,{"$f":"COUNT(AC2:AC32)","v":30},{"$f":"IF(L2>0,AVERAGE(L2:L32),\"\")","v":1015.3133361816406},null,null,null,null,null,{"$f":"MAX(R2:R32)","v":95},{"$f":"MAX(S2:U32)","v":38.599998474121094}]
[null,null,null,null,{"$f":"IF(B2<>0,INDEX(A2:A32,MATCH(E33,E2:E32,0)),\"\")","v":"2021-09-30"},{"$f":"IF(F2<>0,(INDEX(A2:A32,MATCH(F33,F2:F32,0))),\"\")","v":"2021-09-08"},{"$f":"IF(G34>0,(INDEX(A2:A32,MATCH(G33,G2:G32,0))),\"\")","v":"2021-09-15"},{"$f":"IF(H34>=0,(INDEX(A2:A32,MATCH(H33,H2:H32,0))),\"\")","v":{"$error":"#N/A"}},{"$f":"IF(I2<>0,(INDEX(D2:D32,MATCH(I33,I2:I32,0))),\"\")","v":""},{"$f":"IF(J2<>0,(INDEX(A2:A32,MATCH(J33,J2:J32,0))),\"\")","v":"2021-09-03"},{"$f":"IF(K2<>0,(INDEX(A2:A32,MATCH(K33,K2:K32,0))),\"\")","v":"2021-09-03"},{"$f":"IF(L2<>0,(INDEX(A2:A32,MATCH(L33,L2:L32,0))),\"\")","v":"2021-09-09"},null,null,{"$f":"IF(O2<>0,(INDEX(J2:J32,MATCH(O33,O2:O32,0))),\"\")","v":""},{"$f":"IF(P2<>0,(INDEX(K2:K32,MATCH(P33,P2:P32,0))),\"\")","v":""},{"$f":"IF(Q3<>0,(INDEX(A2:A32,MATCH(Q33,Q2:Q32,0))),\"\")","v":"2021-09-30"},{"$f":"IF(R2<>0,(INDEX(A2:A32,MATCH(R33,R2:R32,0))),\"\")","v":"2021-09-09"},null,null,null,{"$f":"IF(V39<>0,(INDEX(A2:A32,MATCH(V33,V2:V32,0))),\"\")","v":"2021-09-03"}]
["Schneetage",null,null,null,null,null,null,null,{"$f":"COUNT(AA2:AA32)","v":0},null,null,{"$f":"IF(L2>0,(INDEX(A2:A32,MATCH(L34,L2:L32,0))),\"\")","v":"2021-09-21"},null,null,null,null,null,{"$f":"IF(R2>0,(INDEX(A2:A32,MATCH(R35,R2:R32,0))),\"\")","v":"2021-09-15"}]
["Niederschlag",null,null,null,null,null,{"$f":"COUNTIF(G2:G32,\">0\")","v":10},{"$f":"COUNTIF(H2:H32,\">0\")","v":0},null,null,null,null,null,null,null,null,null,null,null,null,null,null,null,null,null,{"$f":"COUNTIF(Z2:Z32,\">0\")","v":11},{"$f":"SUM(AA2:AA32)","v":0},{"$f":"SUM(AB2:AB32)","v":0},{"$f":"SUM(AC2:AC32)","v":30}]
["Monat","September",2021,null,null,null,null,{"$f":"SUM(H2:H32)","v":0},null,null,null,null,null,null,null,null,null,null,{"$f":"AVERAGE(S34:U34)","v":13.438888984256321},null,null,{"$f":"SUM(V2:V32)","v":138.50000000000003}]